Workbook

Sheet Т-7 на 2027
A1: Форма Т-7. График отпусков на 2027 год
A2: Организация:
A3: Номер документа: | D3: Утверждаю. Руководитель (должность, подпись, расшифровка):
A4: Дата составления:
A5: Минимум 28 календарных дней в год, одной из частей не менее 14 (ст. 115, 125 ТК РФ). Утвердить до 17.12.2026 (ст. 123 ТК РФ). Заполняйте серые столбцы F: даты формат ДД.ММ.ГГГГ.
A7: Структурное подразделение | B7: Должность (специальность, профессия) | C7: Фамилия, инициалы | D7: Табельный номер | E7: Количество календарных дней | F7: Запланированная дата начала | G7: Фактическая дата | H7: Основание (документ) | I7: Дата предполагаемого отпуска (при переносе) | J7: Примечание

Sheet График по месяцам
A1: Визуальный график отпусков 2027: заполняется сам по листу «Т-7 на 2027»
A2: В ячейках число дней отпуска в месяце, цветом отмечены месяцы с отпуском. В нижней строке видно, сколько человек отсутствует в каждом месяце.
C3: 46388 | D3: 46419 | E3: 46447 | F3: 46478 | G3: 46508 | H3: 46539 | I3: 46569 | J3: 46600 | K3: 46631 | L3: 46661 | M3: 46692 | N3: 46722
A4: Сотрудник | B4: Дней всего | C4: Янв | D4: Фев | E4: Мар | F4: Апр | G4: Май | H4: Июн | I4: Июл | J4: Авг | K4: Сен | L4: Окт | M4: Ноя | N4: Дек
A5: =IF('Т-7 на 2027'!C8="","",'Т-7 на 2027'!C8) | B5: =IF('Т-7 на 2027'!E8="","",'Т-7 на 2027'!E8) | C5: =IF(OR('Т-7 на 2027'!F8="",'Т-7 на 2027'!E8=""),0,MAX(0,MIN('Т-7 на 2027'!F8+'Т-7 на 2027'!E8-1,EOMONTH(C$3,0))-MAX('Т-7 на 2027'!F8,C$3)+1)) | D5: =IF(OR('Т-7 на 2027'!F8="",'Т-7 на 2027'!E8=""),0,MAX(0,MIN('Т-7 на 2027'!F8+'Т-7 на 2027'!E8-1,EOMONTH(D$3,0))-MAX('Т-7 на 2027'!F8,D$3)+1)) | E5: =IF(OR('Т-7 на 2027'!F8="",'Т-7 на 2027'!E8=""),0,MAX(0,MIN('Т-7 на 2027'!F8+'Т-7 на 2027'!E8-1,EOMONTH(E$3,0))-MAX('Т-7 на 2027'!F8,E$3)+1)) | F5: =IF(OR('Т-7 на 2027'!F8="",'Т-7 на 2027'!E8=""),0,MAX(0,MIN('Т-7 на 2027'!F8+'Т-7 на 2027'!E8-1,EOMONTH(F$3,0))-MAX('Т-7 на 2027'!F8,F$3)+1)) | G5: =IF(OR('Т-7 на 2027'!F8="",'Т-7 на 2027'!E8=""),0,MAX(0,MIN('Т-7 на 2027'!F8+'Т-7 на 2027'!E8-1,EOMONTH(G$3,0))-MAX('Т-7 на 2027'!F8,G$3)+1)) | H5: =IF(OR('Т-7 на 2027'!F8="",'Т-7 на 2027'!E8=""),0,MAX(0,MIN('Т-7 на 2027'!F8+'Т-7 на 2027'!E8-1,EOMONTH(H$3,0))-MAX('Т-7 на 2027'!F8,H$3)+1)) | I5: =IF(OR('Т-7 на 2027'!F8="",'Т-7 на 2027'!E8=""),0,MAX(0,MIN('Т-7 на 2027'!F8+'Т-7 на 2027'!E8-1,EOMONTH(I$3,0))-MAX('Т-7 на 2027'!F8,I$3)+1)) | J5: =IF(OR('Т-7 на 2027'!F8="",'Т-7 на 2027'!E8=""),0,MAX(0,MIN('Т-7 на 2027'!F8+'Т-7 на 2027'!E8-1,EOMONTH(J$3,0))-MAX('Т-7 на 2027'!F8,J$3)+1)) | K5: =IF(OR('Т-7 на 2027'!F8="",'Т-7 на 2027'!E8=""),0,MAX(0,MIN('Т-7 на 2027'!F8+'Т-7 на 2027'!E8-1,EOMONTH(K$3,0))-MAX('Т-7 на 2027'!F8,K$3)+1)) | L5: =IF(OR('Т-7 на 2027'!F8="",'Т-7 на 2027'!E8=""),0,MAX(0,MIN('Т-7 на 2027'!F8+'Т-7 на 2027'!E8-1,EOMONTH(L$3,0))-MAX('Т-7 на 2027'!F8,L$3)+1)) | M5: =IF(OR('Т-7 на 2027'!F8="",'Т-7 на 2027'!E8=""),0,MAX(0,MIN('Т-7 на 2027'!F8+'Т-7 на 2027'!E8-1,EOMONTH(M$3,0))-MAX('Т-7 на 2027'!F8,M$3)+1)) | N5: =IF(OR('Т-7 на 2027'!F8="",'Т-7 на 2027'!E8=""),0,MAX(0,MIN('Т-7 на 2027'!F8+'Т-7 на 2027'!E8-1,EOMONTH(N$3,0))-MAX('Т-7 на 2027'!F8,N$3)+1))
A6: =IF('Т-7 на 2027'!C9="","",'Т-7 на 2027'!C9) | B6: =IF('Т-7 на 2027'!E9="","",'Т-7 на 2027'!E9) | C6: =IF(OR('Т-7 на 2027'!F9="",'Т-7 на 2027'!E9=""),0,MAX(0,MIN('Т-7 на 2027'!F9+'Т-7 на 2027'!E9-1,EOMONTH(C$3,0))-MAX('Т-7 на 2027'!F9,C$3)+1)) | D6: =IF(OR('Т-7 на 2027'!F9="",'Т-7 на 2027'!E9=""),0,MAX(0,MIN('Т-7 на 2027'!F9+'Т-7 на 2027'!E9-1,EOMONTH(D$3,0))-MAX('Т-7 на 2027'!F9,D$3)+1)) | E6: =IF(OR('Т-7 на 2027'!F9="",'Т-7 на 2027'!E9=""),0,MAX(0,MIN('Т-7 на 2027'!F9+'Т-7 на 2027'!E9-1,EOMONTH(E$3,0))-MAX('Т-7 на 2027'!F9,E$3)+1)) | F6: =IF(OR('Т-7 на 2027'!F9="",'Т-7 на 2027'!E9=""),0,MAX(0,MIN('Т-7 на 2027'!F9+'Т-7 на 2027'!E9-1,EOMONTH(F$3,0))-MAX('Т-7 на 2027'!F9,F$3)+1)) | G6: =IF(OR('Т-7 на 2027'!F9="",'Т-7 на 2027'!E9=""),0,MAX(0,MIN('Т-7 на 2027'!F9+'Т-7 на 2027'!E9-1,EOMONTH(G$3,0))-MAX('Т-7 на 2027'!F9,G$3)+1)) | H6: =IF(OR('Т-7 на 2027'!F9="",'Т-7 на 2027'!E9=""),0,MAX(0,MIN('Т-7 на 2027'!F9+'Т-7 на 2027'!E9-1,EOMONTH(H$3,0))-MAX('Т-7 на 2027'!F9,H$3)+1)) | I6: =IF(OR('Т-7 на 2027'!F9="",'Т-7 на 2027'!E9=""),0,MAX(0,MIN('Т-7 на 2027'!F9+'Т-7 на 2027'!E9-1,EOMONTH(I$3,0))-MAX('Т-7 на 2027'!F9,I$3)+1)) | J6: =IF(OR('Т-7 на 2027'!F9="",'Т-7 на 2027'!E9=""),0,MAX(0,MIN('Т-7 на 2027'!F9+'Т-7 на 2027'!E9-1,EOMONTH(J$3,0))-MAX('Т-7 на 2027'!F9,J$3)+1)) | K6: =IF(OR('Т-7 на 2027'!F9="",'Т-7 на 2027'!E9=""),0,MAX(0,MIN('Т-7 на 2027'!F9+'Т-7 на 2027'!E9-1,EOMONTH(K$3,0))-MAX('Т-7 на 2027'!F9,K$3)+1)) | L6: =IF(OR('Т-7 на 2027'!F9="",'Т-7 на 2027'!E9=""),0,MAX(0,MIN('Т-7 на 2027'!F9+'Т-7 на 2027'!E9-1,EOMONTH(L$3,0))-MAX('Т-7 на 2027'!F9,L$3)+1)) | M6: =IF(OR('Т-7 на 2027'!F9="",'Т-7 на 2027'!E9=""),0,MAX(0,MIN('Т-7 на 2027'!F9+'Т-7 на 2027'!E9-1,EOMONTH(M$3,0))-MAX('Т-7 на 2027'!F9,M$3)+1)) | N6: =IF(OR('Т-7 на 2027'!F9="",'Т-7 на 2027'!E9=""),0,MAX(0,MIN('Т-7 на 2027'!F9+'Т-7 на 2027'!E9-1,EOMONTH(N$3,0))-MAX('Т-7 на 2027'!F9,N$3)+1))
A7: =IF('Т-7 на 2027'!C10="","",'Т-7 на 2027'!C10) | B7: =IF('Т-7 на 2027'!E10="","",'Т-7 на 2027'!E10) | C7: =IF(OR('Т-7 на 2027'!F10="",'Т-7 на 2027'!E10=""),0,MAX(0,MIN('Т-7 на 2027'!F10+'Т-7 на 2027'!E10-1,EOMONTH(C$3,0))-MAX('Т-7 на 2027'!F10,C$3)+1)) | D7: =IF(OR('Т-7 на 2027'!F10="",'Т-7 на 2027'!E10=""),0,MAX(0,MIN('Т-7 на 2027'!F10+'Т-7 на 2027'!E10-1,EOMONTH(D$3,0))-MAX('Т-7 на 2027'!F10,D$3)+1)) | E7: =IF(OR('Т-7 на 2027'!F10="",'Т-7 на 2027'!E10=""),0,MAX(0,MIN('Т-7 на 2027'!F10+'Т-7 на 2027'!E10-1,EOMONTH(E$3,0))-MAX('Т-7 на 2027'!F10,E$3)+1)) | F7: =IF(OR('Т-7 на 2027'!F10="",'Т-7 на 2027'!E10=""),0,MAX(0,MIN('Т-7 на 2027'!F10+'Т-7 на 2027'!E10-1,EOMONTH(F$3,0))-MAX('Т-7 на 2027'!F10,F$3)+1)) | G7: =IF(OR('Т-7 на 2027'!F10="",'Т-7 на 2027'!E10=""),0,MAX(0,MIN('Т-7 на 2027'!F10+'Т-7 на 2027'!E10-1,EOMONTH(G$3,0))-MAX('Т-7 на 2027'!F10,G$3)+1)) | H7: =IF(OR('Т-7 на 2027'!F10="",'Т-7 на 2027'!E10=""),0,MAX(0,MIN('Т-7 на 2027'!F10+'Т-7 на 2027'!E10-1,EOMONTH(H$3,0))-MAX('Т-7 на 2027'!F10,H$3)+1)) | I7: =IF(OR('Т-7 на 2027'!F10="",'Т-7 на 2027'!E10=""),0,MAX(0,MIN('Т-7 на 2027'!F10+'Т-7 на 2027'!E10-1,EOMONTH(I$3,0))-MAX('Т-7 на 2027'!F10,I$3)+1)) | J7: =IF(OR('Т-7 на 2027'!F10="",'Т-7 на 2027'!E10=""),0,MAX(0,MIN('Т-7 на 2027'!F10+'Т-7 на 2027'!E10-1,EOMONTH(J$3,0))-MAX('Т-7 на 2027'!F10,J$3)+1)) | K7: =IF(OR('Т-7 на 2027'!F10="",'Т-7 на 2027'!E10=""),0,MAX(0,MIN('Т-7 на 2027'!F10+'Т-7 на 2027'!E10-1,EOMONTH(K$3,0))-MAX('Т-7 на 2027'!F10,K$3)+1)) | L7: =IF(OR('Т-7 на 2027'!F10="",'Т-7 на 2027'!E10=""),0,MAX(0,MIN('Т-7 на 2027'!F10+'Т-7 на 2027'!E10-1,EOMONTH(L$3,0))-MAX('Т-7 на 2027'!F10,L$3)+1)) | M7: =IF(OR('Т-7 на 2027'!F10="",'Т-7 на 2027'!E10=""),0,MAX(0,MIN('Т-7 на 2027'!F10+'Т-7 на 2027'!E10-1,EOMONTH(M$3,0))-MAX('Т-7 на 2027'!F10,M$3)+1)) | N7: =IF(OR('Т-7 на 2027'!F10="",'Т-7 на 2027'!E10=""),0,MAX(0,MIN('Т-7 на 2027'!F10+'Т-7 на 2027'!E10-1,EOMONTH(N$3,0))-MAX('Т-7 на 2027'!F10,N$3)+1))
A8: =IF('Т-7 на 2027'!C11="","",'Т-7 на 2027'!C11) | B8: =IF('Т-7 на 2027'!E11="","",'Т-7 на 2027'!E11) | C8: =IF(OR('Т-7 на 2027'!F11="",'Т-7 на 2027'!E11=""),0,MAX(0,MIN('Т-7 на 2027'!F11+'Т-7 на 2027'!E11-1,EOMONTH(C$3,0))-MAX('Т-7 на 2027'!F11,C$3)+1)) | D8: =IF(OR('Т-7 на 2027'!F11="",'Т-7 на 2027'!E11=""),0,MAX(0,MIN('Т-7 на 2027'!F11+'Т-7 на 2027'!E11-1,EOMONTH(D$3,0))-MAX('Т-7 на 2027'!F11,D$3)+1)) | E8: =IF(OR('Т-7 на 2027'!F11="",'Т-7 на 2027'!E11=""),0,MAX(0,MIN('Т-7 на 2027'!F11+'Т-7 на 2027'!E11-1,EOMONTH(E$3,0))-MAX('Т-7 на 2027'!F11,E$3)+1)) | F8: =IF(OR('Т-7 на 2027'!F11="",'Т-7 на 2027'!E11=""),0,MAX(0,MIN('Т-7 на 2027'!F11+'Т-7 на 2027'!E11-1,EOMONTH(F$3,0))-MAX('Т-7 на 2027'!F11,F$3)+1)) | G8: =IF(OR('Т-7 на 2027'!F11="",'Т-7 на 2027'!E11=""),0,MAX(0,MIN('Т-7 на 2027'!F11+'Т-7 на 2027'!E11-1,EOMONTH(G$3,0))-MAX('Т-7 на 2027'!F11,G$3)+1)) | H8: =IF(OR('Т-7 на 2027'!F11="",'Т-7 на 2027'!E11=""),0,MAX(0,MIN('Т-7 на 2027'!F11+'Т-7 на 2027'!E11-1,EOMONTH(H$3,0))-MAX('Т-7 на 2027'!F11,H$3)+1)) | I8: =IF(OR('Т-7 на 2027'!F11="",'Т-7 на 2027'!E11=""),0,MAX(0,MIN('Т-7 на 2027'!F11+'Т-7 на 2027'!E11-1,EOMONTH(I$3,0))-MAX('Т-7 на 2027'!F11,I$3)+1)) | J8: =IF(OR('Т-7 на 2027'!F11="",'Т-7 на 2027'!E11=""),0,MAX(0,MIN('Т-7 на 2027'!F11+'Т-7 на 2027'!E11-1,EOMONTH(J$3,0))-MAX('Т-7 на 2027'!F11,J$3)+1)) | K8: =IF(OR('Т-7 на 2027'!F11="",'Т-7 на 2027'!E11=""),0,MAX(0,MIN('Т-7 на 2027'!F11+'Т-7 на 2027'!E11-1,EOMONTH(K$3,0))-MAX('Т-7 на 2027'!F11,K$3)+1)) | L8: =IF(OR('Т-7 на 2027'!F11="",'Т-7 на 2027'!E11=""),0,MAX(0,MIN('Т-7 на 2027'!F11+'Т-7 на 2027'!E11-1,EOMONTH(L$3,0))-MAX('Т-7 на 2027'!F11,L$3)+1)) | M8: =IF(OR('Т-7 на 2027'!F11="",'Т-7 на 2027'!E11=""),0,MAX(0,MIN('Т-7 на 2027'!F11+'Т-7 на 2027'!E11-1,EOMONTH(M$3,0))-MAX('Т-7 на 2027'!F11,M$3)+1)) | N8: =IF(OR('Т-7 на 2027'!F11="",'Т-7 на 2027'!E11=""),0,MAX(0,MIN('Т-7 на 2027'!F11+'Т-7 на 2027'!E11-1,EOMONTH(N$3,0))-MAX('Т-7 на 2027'!F11,N$3)+1))
A9: =IF('Т-7 на 2027'!C12="","",'Т-7 на 2027'!C12) | B9: =IF('Т-7 на 2027'!E12="","",'Т-7 на 2027'!E12) | C9: =IF(OR('Т-7 на 2027'!F12="",'Т-7 на 2027'!E12=""),0,MAX(0,MIN('Т-7 на 2027'!F12+'Т-7 на 2027'!E12-1,EOMONTH(C$3,0))-MAX('Т-7 на 2027'!F12,C$3)+1)) | D9: =IF(OR('Т-7 на 2027'!F12="",'Т-7 на 2027'!E12=""),0,MAX(0,MIN('Т-7 на 2027'!F12+'Т-7 на 2027'!E12-1,EOMONTH(D$3,0))-MAX('Т-7 на 2027'!F12,D$3)+1)) | E9: =IF(OR('Т-7 на 2027'!F12="",'Т-7 на 2027'!E12=""),0,MAX(0,MIN('Т-7 на 2027'!F12+'Т-7 на 2027'!E12-1,EOMONTH(E$3,0))-MAX('Т-7 на 2027'!F12,E$3)+1)) | F9: =IF(OR('Т-7 на 2027'!F12="",'Т-7 на 2027'!E12=""),0,MAX(0,MIN('Т-7 на 2027'!F12+'Т-7 на 2027'!E12-1,EOMONTH(F$3,0))-MAX('Т-7 на 2027'!F12,F$3)+1)) | G9: =IF(OR('Т-7 на 2027'!F12="",'Т-7 на 2027'!E12=""),0,MAX(0,MIN('Т-7 на 2027'!F12+'Т-7 на 2027'!E12-1,EOMONTH(G$3,0))-MAX('Т-7 на 2027'!F12,G$3)+1)) | H9: =IF(OR('Т-7 на 2027'!F12="",'Т-7 на 2027'!E12=""),0,MAX(0,MIN('Т-7 на 2027'!F12+'Т-7 на 2027'!E12-1,EOMONTH(H$3,0))-MAX('Т-7 на 2027'!F12,H$3)+1)) | I9: =IF(OR('Т-7 на 2027'!F12="",'Т-7 на 2027'!E12=""),0,MAX(0,MIN('Т-7 на 2027'!F12+'Т-7 на 2027'!E12-1,EOMONTH(I$3,0))-MAX('Т-7 на 2027'!F12,I$3)+1)) | J9: =IF(OR('Т-7 на 2027'!F12="",'Т-7 на 2027'!E12=""),0,MAX(0,MIN('Т-7 на 2027'!F12+'Т-7 на 2027'!E12-1,EOMONTH(J$3,0))-MAX('Т-7 на 2027'!F12,J$3)+1)) | K9: =IF(OR('Т-7 на 2027'!F12="",'Т-7 на 2027'!E12=""),0,MAX(0,MIN('Т-7 на 2027'!F12+'Т-7 на 2027'!E12-1,EOMONTH(K$3,0))-MAX('Т-7 на 2027'!F12,K$3)+1)) | L9: =IF(OR('Т-7 на 2027'!F12="",'Т-7 на 2027'!E12=""),0,MAX(0,MIN('Т-7 на 2027'!F12+'Т-7 на 2027'!E12-1,EOMONTH(L$3,0))-MAX('Т-7 на 2027'!F12,L$3)+1)) | M9: =IF(OR('Т-7 на 2027'!F12="",'Т-7 на 2027'!E12=""),0,MAX(0,MIN('Т-7 на 2027'!F12+'Т-7 на 2027'!E12-1,EOMONTH(M$3,0))-MAX('Т-7 на 2027'!F12,M$3)+1)) | N9: =IF(OR('Т-7 на 2027'!F12="",'Т-7 на 2027'!E12=""),0,MAX(0,MIN('Т-7 на 2027'!F12+'Т-7 на 2027'!E12-1,EOMONTH(N$3,0))-MAX('Т-7 на 2027'!F12,N$3)+1))
A10: =IF('Т-7 на 2027'!C13="","",'Т-7 на 2027'!C13) | B10: =IF('Т-7 на 2027'!E13="","",'Т-7 на 2027'!E13) | C10: =IF(OR('Т-7 на 2027'!F13="",'Т-7 на 2027'!E13=""),0,MAX(0,MIN('Т-7 на 2027'!F13+'Т-7 на 2027'!E13-1,EOMONTH(C$3,0))-MAX('Т-7 на 2027'!F13,C$3)+1)) | D10: =IF(OR('Т-7 на 2027'!F13="",'Т-7 на 2027'!E13=""),0,MAX(0,MIN('Т-7 на 2027'!F13+'Т-7 на 2027'!E13-1,EOMONTH(D$3,0))-MAX('Т-7 на 2027'!F13,D$3)+1)) | E10: =IF(OR('Т-7 на 2027'!F13="",'Т-7 на 2027'!E13=""),0,MAX(0,MIN('Т-7 на 2027'!F13+'Т-7 на 2027'!E13-1,EOMONTH(E$3,0))-MAX('Т-7 на 2027'!F13,E$3)+1)) | F10: =IF(OR('Т-7 на 2027'!F13="",'Т-7 на 2027'!E13=""),0,MAX(0,MIN('Т-7 на 2027'!F13+'Т-7 на 2027'!E13-1,EOMONTH(F$3,0))-MAX('Т-7 на 2027'!F13,F$3)+1)) | G10: =IF(OR('Т-7 на 2027'!F13="",'Т-7 на 2027'!E13=""),0,MAX(0,MIN('Т-7 на 2027'!F13+'Т-7 на 2027'!E13-1,EOMONTH(G$3,0))-MAX('Т-7 на 2027'!F13,G$3)+1)) | H10: =IF(OR('Т-7 на 2027'!F13="",'Т-7 на 2027'!E13=""),0,MAX(0,MIN('Т-7 на 2027'!F13+'Т-7 на 2027'!E13-1,EOMONTH(H$3,0))-MAX('Т-7 на 2027'!F13,H$3)+1)) | I10: =IF(OR('Т-7 на 2027'!F13="",'Т-7 на 2027'!E13=""),0,MAX(0,MIN('Т-7 на 2027'!F13+'Т-7 на 2027'!E13-1,EOMONTH(I$3,0))-MAX('Т-7 на 2027'!F13,I$3)+1)) | J10: =IF(OR('Т-7 на 2027'!F13="",'Т-7 на 2027'!E13=""),0,MAX(0,MIN('Т-7 на 2027'!F13+'Т-7 на 2027'!E13-1,EOMONTH(J$3,0))-MAX('Т-7 на 2027'!F13,J$3)+1)) | K10: =IF(OR('Т-7 на 2027'!F13="",'Т-7 на 2027'!E13=""),0,MAX(0,MIN('Т-7 на 2027'!F13+'Т-7 на 2027'!E13-1,EOMONTH(K$3,0))-MAX('Т-7 на 2027'!F13,K$3)+1)) | L10: =IF(OR('Т-7 на 2027'!F13="",'Т-7 на 2027'!E13=""),0,MAX(0,MIN('Т-7 на 2027'!F13+'Т-7 на 2027'!E13-1,EOMONTH(L$3,0))-MAX('Т-7 на 2027'!F13,L$3)+1)) | M10: =IF(OR('Т-7 на 2027'!F13="",'Т-7 на 2027'!E13=""),0,MAX(0,MIN('Т-7 на 2027'!F13+'Т-7 на 2027'!E13-1,EOMONTH(M$3,0))-MAX('Т-7 на 2027'!F13,M$3)+1)) | N10: =IF(OR('Т-7 на 2027'!F13="",'Т-7 на 2027'!E13=""),0,MAX(0,MIN('Т-7 на 2027'!F13+'Т-7 на 2027'!E13-1,EOMONTH(N$3,0))-MAX('Т-7 на 2027'!F13,N$3)+1))
A11: =IF('Т-7 на 2027'!C14="","",'Т-7 на 2027'!C14) | B11: =IF('Т-7 на 2027'!E14="","",'Т-7 на 2027'!E14) | C11: =IF(OR('Т-7 на 2027'!F14="",'Т-7 на 2027'!E14=""),0,MAX(0,MIN('Т-7 на 2027'!F14+'Т-7 на 2027'!E14-1,EOMONTH(C$3,0))-MAX('Т-7 на 2027'!F14,C$3)+1)) | D11: =IF(OR('Т-7 на 2027'!F14="",'Т-7 на 2027'!E14=""),0,MAX(0,MIN('Т-7 на 2027'!F14+'Т-7 на 2027'!E14-1,EOMONTH(D$3,0))-MAX('Т-7 на 2027'!F14,D$3)+1)) | E11: =IF(OR('Т-7 на 2027'!F14="",'Т-7 на 2027'!E14=""),0,MAX(0,MIN('Т-7 на 2027'!F14+'Т-7 на 2027'!E14-1,EOMONTH(E$3,0))-MAX('Т-7 на 2027'!F14,E$3)+1)) | F11: =IF(OR('Т-7 на 2027'!F14="",'Т-7 на 2027'!E14=""),0,MAX(0,MIN('Т-7 на 2027'!F14+'Т-7 на 2027'!E14-1,EOMONTH(F$3,0))-MAX('Т-7 на 2027'!F14,F$3)+1)) | G11: =IF(OR('Т-7 на 2027'!F14="",'Т-7 на 2027'!E14=""),0,MAX(0,MIN('Т-7 на 2027'!F14+'Т-7 на 2027'!E14-1,EOMONTH(G$3,0))-MAX('Т-7 на 2027'!F14,G$3)+1)) | H11: =IF(OR('Т-7 на 2027'!F14="",'Т-7 на 2027'!E14=""),0,MAX(0,MIN('Т-7 на 2027'!F14+'Т-7 на 2027'!E14-1,EOMONTH(H$3,0))-MAX('Т-7 на 2027'!F14,H$3)+1)) | I11: =IF(OR('Т-7 на 2027'!F14="",'Т-7 на 2027'!E14=""),0,MAX(0,MIN('Т-7 на 2027'!F14+'Т-7 на 2027'!E14-1,EOMONTH(I$3,0))-MAX('Т-7 на 2027'!F14,I$3)+1)) | J11: =IF(OR('Т-7 на 2027'!F14="",'Т-7 на 2027'!E14=""),0,MAX(0,MIN('Т-7 на 2027'!F14+'Т-7 на 2027'!E14-1,EOMONTH(J$3,0))-MAX('Т-7 на 2027'!F14,J$3)+1)) | K11: =IF(OR('Т-7 на 2027'!F14="",'Т-7 на 2027'!E14=""),0,MAX(0,MIN('Т-7 на 2027'!F14+'Т-7 на 2027'!E14-1,EOMONTH(K$3,0))-MAX('Т-7 на 2027'!F14,K$3)+1)) | L11: =IF(OR('Т-7 на 2027'!F14="",'Т-7 на 2027'!E14=""),0,MAX(0,MIN('Т-7 на 2027'!F14+'Т-7 на 2027'!E14-1,EOMONTH(L$3,0))-MAX('Т-7 на 2027'!F14,L$3)+1)) | M11: =IF(OR('Т-7 на 2027'!F14="",'Т-7 на 2027'!E14=""),0,MAX(0,MIN('Т-7 на 2027'!F14+'Т-7 на 2027'!E14-1,EOMONTH(M$3,0))-MAX('Т-7 на 2027'!F14,M$3)+1)) | N11: =IF(OR('Т-7 на 2027'!F14="",'Т-7 на 2027'!E14=""),0,MAX(0,MIN('Т-7 на 2027'!F14+'Т-7 на 2027'!E14-1,EOMONTH(N$3,0))-MAX('Т-7 на 2027'!F14,N$3)+1))
A12: =IF('Т-7 на 2027'!C15="","",'Т-7 на 2027'!C15) | B12: =IF('Т-7 на 2027'!E15="","",'Т-7 на 2027'!E15) | C12: =IF(OR('Т-7 на 2027'!F15="",'Т-7 на 2027'!E15=""),0,MAX(0,MIN('Т-7 на 2027'!F15+'Т-7 на 2027'!E15-1,EOMONTH(C$3,0))-MAX('Т-7 на 2027'!F15,C$3)+1)) | D12: =IF(OR('Т-7 на 2027'!F15="",'Т-7 на 2027'!E15=""),0,MAX(0,MIN('Т-7 на 2027'!F15+'Т-7 на 2027'!E15-1,EOMONTH(D$3,0))-MAX('Т-7 на 2027'!F15,D$3)+1)) | E12: =IF(OR('Т-7 на 2027'!F15="",'Т-7 на 2027'!E15=""),0,MAX(0,MIN('Т-7 на 2027'!F15+'Т-7 на 2027'!E15-1,EOMONTH(E$3,0))-MAX('Т-7 на 2027'!F15,E$3)+1)) | F12: =IF(OR('Т-7 на 2027'!F15="",'Т-7 на 2027'!E15=""),0,MAX(0,MIN('Т-7 на 2027'!F15+'Т-7 на 2027'!E15-1,EOMONTH(F$3,0))-MAX('Т-7 на 2027'!F15,F$3)+1)) | G12: =IF(OR('Т-7 на 2027'!F15="",'Т-7 на 2027'!E15=""),0,MAX(0,MIN('Т-7 на 2027'!F15+'Т-7 на 2027'!E15-1,EOMONTH(G$3,0))-MAX('Т-7 на 2027'!F15,G$3)+1)) | H12: =IF(OR('Т-7 на 2027'!F15="",'Т-7 на 2027'!E15=""),0,MAX(0,MIN('Т-7 на 2027'!F15+'Т-7 на 2027'!E15-1,EOMONTH(H$3,0))-MAX('Т-7 на 2027'!F15,H$3)+1)) | I12: =IF(OR('Т-7 на 2027'!F15="",'Т-7 на 2027'!E15=""),0,MAX(0,MIN('Т-7 на 2027'!F15+'Т-7 на 2027'!E15-1,EOMONTH(I$3,0))-MAX('Т-7 на 2027'!F15,I$3)+1)) | J12: =IF(OR('Т-7 на 2027'!F15="",'Т-7 на 2027'!E15=""),0,MAX(0,MIN('Т-7 на 2027'!F15+'Т-7 на 2027'!E15-1,EOMONTH(J$3,0))-MAX('Т-7 на 2027'!F15,J$3)+1)) | K12: =IF(OR('Т-7 на 2027'!F15="",'Т-7 на 2027'!E15=""),0,MAX(0,MIN('Т-7 на 2027'!F15+'Т-7 на 2027'!E15-1,EOMONTH(K$3,0))-MAX('Т-7 на 2027'!F15,K$3)+1)) | L12: =IF(OR('Т-7 на 2027'!F15="",'Т-7 на 2027'!E15=""),0,MAX(0,MIN('Т-7 на 2027'!F15+'Т-7 на 2027'!E15-1,EOMONTH(L$3,0))-MAX('Т-7 на 2027'!F15,L$3)+1)) | M12: =IF(OR('Т-7 на 2027'!F15="",'Т-7 на 2027'!E15=""),0,MAX(0,MIN('Т-7 на 2027'!F15+'Т-7 на 2027'!E15-1,EOMONTH(M$3,0))-MAX('Т-7 на 2027'!F15,M$3)+1)) | N12: =IF(OR('Т-7 на 2027'!F15="",'Т-7 на 2027'!E15=""),0,MAX(0,MIN('Т-7 на 2027'!F15+'Т-7 на 2027'!E15-1,EOMONTH(N$3,0))-MAX('Т-7 на 2027'!F15,N$3)+1))
A13: =IF('Т-7 на 2027'!C16="","",'Т-7 на 2027'!C16) | B13: =IF('Т-7 на 2027'!E16="","",'Т-7 на 2027'!E16) | C13: =IF(OR('Т-7 на 2027'!F16="",'Т-7 на 2027'!E16=""),0,MAX(0,MIN('Т-7 на 2027'!F16+'Т-7 на 2027'!E16-1,EOMONTH(C$3,0))-MAX('Т-7 на 2027'!F16,C$3)+1)) | D13: =IF(OR('Т-7 на 2027'!F16="",'Т-7 на 2027'!E16=""),0,MAX(0,MIN('Т-7 на 2027'!F16+'Т-7 на 2027'!E16-1,EOMONTH(D$3,0))-MAX('Т-7 на 2027'!F16,D$3)+1)) | E13: =IF(OR('Т-7 на 2027'!F16="",'Т-7 на 2027'!E16=""),0,MAX(0,MIN('Т-7 на 2027'!F16+'Т-7 на 2027'!E16-1,EOMONTH(E$3,0))-MAX('Т-7 на 2027'!F16,E$3)+1)) | F13: =IF(OR('Т-7 на 2027'!F16="",'Т-7 на 2027'!E16=""),0,MAX(0,MIN('Т-7 на 2027'!F16+'Т-7 на 2027'!E16-1,EOMONTH(F$3,0))-MAX('Т-7 на 2027'!F16,F$3)+1)) | G13: =IF(OR('Т-7 на 2027'!F16="",'Т-7 на 2027'!E16=""),0,MAX(0,MIN('Т-7 на 2027'!F16+'Т-7 на 2027'!E16-1,EOMONTH(G$3,0))-MAX('Т-7 на 2027'!F16,G$3)+1)) | H13: =IF(OR('Т-7 на 2027'!F16="",'Т-7 на 2027'!E16=""),0,MAX(0,MIN('Т-7 на 2027'!F16+'Т-7 на 2027'!E16-1,EOMONTH(H$3,0))-MAX('Т-7 на 2027'!F16,H$3)+1)) | I13: =IF(OR('Т-7 на 2027'!F16="",'Т-7 на 2027'!E16=""),0,MAX(0,MIN('Т-7 на 2027'!F16+'Т-7 на 2027'!E16-1,EOMONTH(I$3,0))-MAX('Т-7 на 2027'!F16,I$3)+1)) | J13: =IF(OR('Т-7 на 2027'!F16="",'Т-7 на 2027'!E16=""),0,MAX(0,MIN('Т-7 на 2027'!F16+'Т-7 на 2027'!E16-1,EOMONTH(J$3,0))-MAX('Т-7 на 2027'!F16,J$3)+1)) | K13: =IF(OR('Т-7 на 2027'!F16="",'Т-7 на 2027'!E16=""),0,MAX(0,MIN('Т-7 на 2027'!F16+'Т-7 на 2027'!E16-1,EOMONTH(K$3,0))-MAX('Т-7 на 2027'!F16,K$3)+1)) | L13: =IF(OR('Т-7 на 2027'!F16="",'Т-7 на 2027'!E16=""),0,MAX(0,MIN('Т-7 на 2027'!F16+'Т-7 на 2027'!E16-1,EOMONTH(L$3,0))-MAX('Т-7 на 2027'!F16,L$3)+1)) | M13: =IF(OR('Т-7 на 2027'!F16="",'Т-7 на 2027'!E16=""),0,MAX(0,MIN('Т-7 на 2027'!F16+'Т-7 на 2027'!E16-1,EOMONTH(M$3,0))-MAX('Т-7 на 2027'!F16,M$3)+1)) | N13: =IF(OR('Т-7 на 2027'!F16="",'Т-7 на 2027'!E16=""),0,MAX(0,MIN('Т-7 на 2027'!F16+'Т-7 на 2027'!E16-1,EOMONTH(N$3,0))-MAX('Т-7 на 2027'!F16,N$3)+1))
A14: =IF('Т-7 на 2027'!C17="","",'Т-7 на 2027'!C17) | B14: =IF('Т-7 на 2027'!E17="","",'Т-7 на 2027'!E17) | C14: =IF(OR('Т-7 на 2027'!F17="",'Т-7 на 2027'!E17=""),0,MAX(0,MIN('Т-7 на 2027'!F17+'Т-7 на 2027'!E17-1,EOMONTH(C$3,0))-MAX('Т-7 на 2027'!F17,C$3)+1)) | D14: =IF(OR('Т-7 на 2027'!F17="",'Т-7 на 2027'!E17=""),0,MAX(0,MIN('Т-7 на 2027'!F17+'Т-7 на 2027'!E17-1,EOMONTH(D$3,0))-MAX('Т-7 на 2027'!F17,D$3)+1)) | E14: =IF(OR('Т-7 на 2027'!F17="",'Т-7 на 2027'!E17=""),0,MAX(0,MIN('Т-7 на 2027'!F17+'Т-7 на 2027'!E17-1,EOMONTH(E$3,0))-MAX('Т-7 на 2027'!F17,E$3)+1)) | F14: =IF(OR('Т-7 на 2027'!F17="",'Т-7 на 2027'!E17=""),0,MAX(0,MIN('Т-7 на 2027'!F17+'Т-7 на 2027'!E17-1,EOMONTH(F$3,0))-MAX('Т-7 на 2027'!F17,F$3)+1)) | G14: =IF(OR('Т-7 на 2027'!F17="",'Т-7 на 2027'!E17=""),0,MAX(0,MIN('Т-7 на 2027'!F17+'Т-7 на 2027'!E17-1,EOMONTH(G$3,0))-MAX('Т-7 на 2027'!F17,G$3)+1)) | H14: =IF(OR('Т-7 на 2027'!F17="",'Т-7 на 2027'!E17=""),0,MAX(0,MIN('Т-7 на 2027'!F17+'Т-7 на 2027'!E17-1,EOMONTH(H$3,0))-MAX('Т-7 на 2027'!F17,H$3)+1)) | I14: =IF(OR('Т-7 на 2027'!F17="",'Т-7 на 2027'!E17=""),0,MAX(0,MIN('Т-7 на 2027'!F17+'Т-7 на 2027'!E17-1,EOMONTH(I$3,0))-MAX('Т-7 на 2027'!F17,I$3)+1)) | J14: =IF(OR('Т-7 на 2027'!F17="",'Т-7 на 2027'!E17=""),0,MAX(0,MIN('Т-7 на 2027'!F17+'Т-7 на 2027'!E17-1,EOMONTH(J$3,0))-MAX('Т-7 на 2027'!F17,J$3)+1)) | K14: =IF(OR('Т-7 на 2027'!F17="",'Т-7 на 2027'!E17=""),0,MAX(0,MIN('Т-7 на 2027'!F17+'Т-7 на 2027'!E17-1,EOMONTH(K$3,0))-MAX('Т-7 на 2027'!F17,K$3)+1)) | L14: =IF(OR('Т-7 на 2027'!F17="",'Т-7 на 2027'!E17=""),0,MAX(0,MIN('Т-7 на 2027'!F17+'Т-7 на 2027'!E17-1,EOMONTH(L$3,0))-MAX('Т-7 на 2027'!F17,L$3)+1)) | M14: =IF(OR('Т-7 на 2027'!F17="",'Т-7 на 2027'!E17=""),0,MAX(0,MIN('Т-7 на 2027'!F17+'Т-7 на 2027'!E17-1,EOMONTH(M$3,0))-MAX('Т-7 на 2027'!F17,M$3)+1)) | N14: =IF(OR('Т-7 на 2027'!F17="",'Т-7 на 2027'!E17=""),0,MAX(0,MIN('Т-7 на 2027'!F17+'Т-7 на 2027'!E17-1,EOMONTH(N$3,0))-MAX('Т-7 на 2027'!F17,N$3)+1))
A15: =IF('Т-7 на 2027'!C18="","",'Т-7 на 2027'!C18) | B15: =IF('Т-7 на 2027'!E18="","",'Т-7 на 2027'!E18) | C15: =IF(OR('Т-7 на 2027'!F18="",'Т-7 на 2027'!E18=""),0,MAX(0,MIN('Т-7 на 2027'!F18+'Т-7 на 2027'!E18-1,EOMONTH(C$3,0))-MAX('Т-7 на 2027'!F18,C$3)+1)) | D15: =IF(OR('Т-7 на 2027'!F18="",'Т-7 на 2027'!E18=""),0,MAX(0,MIN('Т-7 на 2027'!F18+'Т-7 на 2027'!E18-1,EOMONTH(D$3,0))-MAX('Т-7 на 2027'!F18,D$3)+1)) | E15: =IF(OR('Т-7 на 2027'!F18="",'Т-7 на 2027'!E18=""),0,MAX(0,MIN('Т-7 на 2027'!F18+'Т-7 на 2027'!E18-1,EOMONTH(E$3,0))-MAX('Т-7 на 2027'!F18,E$3)+1)) | F15: =IF(OR('Т-7 на 2027'!F18="",'Т-7 на 2027'!E18=""),0,MAX(0,MIN('Т-7 на 2027'!F18+'Т-7 на 2027'!E18-1,EOMONTH(F$3,0))-MAX('Т-7 на 2027'!F18,F$3)+1)) | G15: =IF(OR('Т-7 на 2027'!F18="",'Т-7 на 2027'!E18=""),0,MAX(0,MIN('Т-7 на 2027'!F18+'Т-7 на 2027'!E18-1,EOMONTH(G$3,0))-MAX('Т-7 на 2027'!F18,G$3)+1)) | H15: =IF(OR('Т-7 на 2027'!F18="",'Т-7 на 2027'!E18=""),0,MAX(0,MIN('Т-7 на 2027'!F18+'Т-7 на 2027'!E18-1,EOMONTH(H$3,0))-MAX('Т-7 на 2027'!F18,H$3)+1)) | I15: =IF(OR('Т-7 на 2027'!F18="",'Т-7 на 2027'!E18=""),0,MAX(0,MIN('Т-7 на 2027'!F18+'Т-7 на 2027'!E18-1,EOMONTH(I$3,0))-MAX('Т-7 на 2027'!F18,I$3)+1)) | J15: =IF(OR('Т-7 на 2027'!F18="",'Т-7 на 2027'!E18=""),0,MAX(0,MIN('Т-7 на 2027'!F18+'Т-7 на 2027'!E18-1,EOMONTH(J$3,0))-MAX('Т-7 на 2027'!F18,J$3)+1)) | K15: =IF(OR('Т-7 на 2027'!F18="",'Т-7 на 2027'!E18=""),0,MAX(0,MIN('Т-7 на 2027'!F18+'Т-7 на 2027'!E18-1,EOMONTH(K$3,0))-MAX('Т-7 на 2027'!F18,K$3)+1)) | L15: =IF(OR('Т-7 на 2027'!F18="",'Т-7 на 2027'!E18=""),0,MAX(0,MIN('Т-7 на 2027'!F18+'Т-7 на 2027'!E18-1,EOMONTH(L$3,0))-MAX('Т-7 на 2027'!F18,L$3)+1)) | M15: =IF(OR('Т-7 на 2027'!F18="",'Т-7 на 2027'!E18=""),0,MAX(0,MIN('Т-7 на 2027'!F18+'Т-7 на 2027'!E18-1,EOMONTH(M$3,0))-MAX('Т-7 на 2027'!F18,M$3)+1)) | N15: =IF(OR('Т-7 на 2027'!F18="",'Т-7 на 2027'!E18=""),0,MAX(0,MIN('Т-7 на 2027'!F18+'Т-7 на 2027'!E18-1,EOMONTH(N$3,0))-MAX('Т-7 на 2027'!F18,N$3)+1))
A16: =IF('Т-7 на 2027'!C19="","",'Т-7 на 2027'!C19) | B16: =IF('Т-7 на 2027'!E19="","",'Т-7 на 2027'!E19) | C16: =IF(OR('Т-7 на 2027'!F19="",'Т-7 на 2027'!E19=""),0,MAX(0,MIN('Т-7 на 2027'!F19+'Т-7 на 2027'!E19-1,EOMONTH(C$3,0))-MAX('Т-7 на 2027'!F19,C$3)+1)) | D16: =IF(OR('Т-7 на 2027'!F19="",'Т-7 на 2027'!E19=""),0,MAX(0,MIN('Т-7 на 2027'!F19+'Т-7 на 2027'!E19-1,EOMONTH(D$3,0))-MAX('Т-7 на 2027'!F19,D$3)+1)) | E16: =IF(OR('Т-7 на 2027'!F19="",'Т-7 на 2027'!E19=""),0,MAX(0,MIN('Т-7 на 2027'!F19+'Т-7 на 2027'!E19-1,EOMONTH(E$3,0))-MAX('Т-7 на 2027'!F19,E$3)+1)) | F16: =IF(OR('Т-7 на 2027'!F19="",'Т-7 на 2027'!E19=""),0,MAX(0,MIN('Т-7 на 2027'!F19+'Т-7 на 2027'!E19-1,EOMONTH(F$3,0))-MAX('Т-7 на 2027'!F19,F$3)+1)) | G16: =IF(OR('Т-7 на 2027'!F19="",'Т-7 на 2027'!E19=""),0,MAX(0,MIN('Т-7 на 2027'!F19+'Т-7 на 2027'!E19-1,EOMONTH(G$3,0))-MAX('Т-7 на 2027'!F19,G$3)+1)) | H16: =IF(OR('Т-7 на 2027'!F19="",'Т-7 на 2027'!E19=""),0,MAX(0,MIN('Т-7 на 2027'!F19+'Т-7 на 2027'!E19-1,EOMONTH(H$3,0))-MAX('Т-7 на 2027'!F19,H$3)+1)) | I16: =IF(OR('Т-7 на 2027'!F19="",'Т-7 на 2027'!E19=""),0,MAX(0,MIN('Т-7 на 2027'!F19+'Т-7 на 2027'!E19-1,EOMONTH(I$3,0))-MAX('Т-7 на 2027'!F19,I$3)+1)) | J16: =IF(OR('Т-7 на 2027'!F19="",'Т-7 на 2027'!E19=""),0,MAX(0,MIN('Т-7 на 2027'!F19+'Т-7 на 2027'!E19-1,EOMONTH(J$3,0))-MAX('Т-7 на 2027'!F19,J$3)+1)) | K16: =IF(OR('Т-7 на 2027'!F19="",'Т-7 на 2027'!E19=""),0,MAX(0,MIN('Т-7 на 2027'!F19+'Т-7 на 2027'!E19-1,EOMONTH(K$3,0))-MAX('Т-7 на 2027'!F19,K$3)+1)) | L16: =IF(OR('Т-7 на 2027'!F19="",'Т-7 на 2027'!E19=""),0,MAX(0,MIN('Т-7 на 2027'!F19+'Т-7 на 2027'!E19-1,EOMONTH(L$3,0))-MAX('Т-7 на 2027'!F19,L$3)+1)) | M16: =IF(OR('Т-7 на 2027'!F19="",'Т-7 на 2027'!E19=""),0,MAX(0,MIN('Т-7 на 2027'!F19+'Т-7 на 2027'!E19-1,EOMONTH(M$3,0))-MAX('Т-7 на 2027'!F19,M$3)+1)) | N16: =IF(OR('Т-7 на 2027'!F19="",'Т-7 на 2027'!E19=""),0,MAX(0,MIN('Т-7 на 2027'!F19+'Т-7 на 2027'!E19-1,EOMONTH(N$3,0))-MAX('Т-7 на 2027'!F19,N$3)+1))
... A64: =IF('Т-7 на 2027'!C67="","",'Т-7 на 2027'!C67) | B64: =IF('Т-7 на 2027'!E67="","",'Т-7 на 2027'!E67) | C64: =IF(OR('Т-7 на 2027'!F67="",'Т-7 на 2027'!E67=""),0,MAX(0,MIN('Т-7 на 2027'!F67+'Т-7 на 2027'!E67-1,EOMONTH(C$3,0))-MAX('Т-7 на 2027'!F67,C$3)+1)) | D64: =IF(OR('Т-7 на 2027'!F67="",'Т-7 на 2027'!E67=""),0,MAX(0,MIN('Т-7 на 2027'!F67+'Т-7 на 2027'!E67-1,EOMONTH(D$3,0))-MAX('Т-7 на 2027'!F67,D$3)+1)) | E64: =IF(OR('Т-7 на 2027'!F67="",'Т-7 на 2027'!E67=""),0,MAX(0,MIN('Т-7 на 2027'!F67+'Т-7 на 2027'!E67-1,EOMONTH(E$3,0))-MAX('Т-7 на 2027'!F67,E$3)+1)) | F64: =IF(OR('Т-7 на 2027'!F67="",'Т-7 на 2027'!E67=""),0,MAX(0,MIN('Т-7 на 2027'!F67+'Т-7 на 2027'!E67-1,EOMONTH(F$3,0))-MAX('Т-7 на 2027'!F67,F$3)+1)) | G64: =IF(OR('Т-7 на 2027'!F67="",'Т-7 на 2027'!E67=""),0,MAX(0,MIN('Т-7 на 2027'!F67+'Т-7 на 2027'!E67-1,EOMONTH(G$3,0))-MAX('Т-7 на 2027'!F67,G$3)+1)) | H64: =IF(OR('Т-7 на 2027'!F67="",'Т-7 на 2027'!E67=""),0,MAX(0,MIN('Т-7 на 2027'!F67+'Т-7 на 2027'!E67-1,EOMONTH(H$3,0))-MAX('Т-7 на 2027'!F67,H$3)+1)) | I64: =IF(OR('Т-7 на 2027'!F67="",'Т-7 на 2027'!E67=""),0,MAX(0,MIN('Т-7 на 2027'!F67+'Т-7 на 2027'!E67-1,EOMONTH(I$3,0))-MAX('Т-7 на 2027'!F67,I$3)+1)) | J64: =IF(OR('Т-7 на 2027'!F67="",'Т-7 на 2027'!E67=""),0,MAX(0,MIN('Т-7 на 2027'!F67+'Т-7 на 2027'!E67-1,EOMONTH(J$3,0))-MAX('Т-7 на 2027'!F67,J$3)+1)) | K64: =IF(OR('Т-7 на 2027'!F67="",'Т-7 на 2027'!E67=""),0,MAX(0,MIN('Т-7 на 2027'!F67+'Т-7 на 2027'!E67-1,EOMONTH(K$3,0))-MAX('Т-7 на 2027'!F67,K$3)+1)) | L64: =IF(OR('Т-7 на 2027'!F67="",'Т-7 на 2027'!E67=""),0,MAX(0,MIN('Т-7 на 2027'!F67+'Т-7 на 2027'!E67-1,EOMONTH(L$3,0))-MAX('Т-7 на 2027'!F67,L$3)+1)) | M64: =IF(OR('Т-7 на 2027'!F67="",'Т-7 на 2027'!E67=""),0,MAX(0,MIN('Т-7 на 2027'!F67+'Т-7 на 2027'!E67-1,EOMONTH(M$3,0))-MAX('Т-7 на 2027'!F67,M$3)+1)) | N64: =IF(OR('Т-7 на 2027'!F67="",'Т-7 на 2027'!E67=""),0,MAX(0,MIN('Т-7 на 2027'!F67+'Т-7 на 2027'!E67-1,EOMONTH(N$3,0))-MAX('Т-7 на 2027'!F67,N$3)+1))
A65: Отсутствует человек (строк с отпуском) | C65: =COUNTIF(C5:C64,">0") | D65: =COUNTIF(D5:D64,">0") | E65: =COUNTIF(E5:E64,">0") | F65: =COUNTIF(F5:F64,">0") | G65: =COUNTIF(G5:G64,">0") | H65: =COUNTIF(H5:H64,">0") | I65: =COUNTIF(I5:I64,">0") | J65: =COUNTIF(J5:J64,">0") | ... N65: =COUNTIF(N5:N64,">0")

Sheet Образец (заполнено)
A1: Форма Т-7. График отпусков на 2027 год
A2: Организация: | B2: ООО «Ромашка» (пример, данные вымышленные)
A3: Номер документа: | B3: 1 | D3: Утверждаю. Руководитель (должность, подпись, расшифровка):
A4: Дата составления: | B4: 46366
A5: Минимум 28 календарных дней в год, одной из частей не менее 14 (ст. 115, 125 ТК РФ). Утвердить до 17.12.2026 (ст. 123 ТК РФ). Заполняйте серые столбцы F: даты формат ДД.ММ.ГГГГ.
A7: Структурное подразделение | B7: Должность (специальность, профессия) | C7: Фамилия, инициалы | D7: Табельный номер | E7: Количество календарных дней | F7: Запланированная дата начала | G7: Фактическая дата | H7: Основание (документ) | I7: Дата предполагаемого отпуска (при переносе) | J7: Примечание
A8: Разработка | B8: Ведущий разработчик | C8: Иванов И. И. | D8: 101 | E8: 14 | F8: 46573
A9: Разработка | B9: Ведущий разработчик | C9: Иванов И. И. | D9: 101 | E9: 14 | F9: 46741
A10: Разработка | B10: Разработчик | C10: Петрова А. С. | D10: 102 | E10: 28 | F10: 46601
A11: Дизайн | B11: Дизайнер | C11: Сидоров П. К. | D11: 103 | E11: 21 | F11: 46552
A12: Продажи | B12: Менеджер по продажам | C12: Кузнецова М. В. | D12: 104 | E12: 14 | F12: 46524
A13: Продажи | B13: Менеджер по продажам | C13: Кузнецова М. В. | D13: 104 | E13: 14 | F13: 46636
A16: Совет: если отпуск делится на части, пишите каждую часть отдельной строкой. Утверждается приказом руководителя; с графиком знакомят работников под подпись.
